BEGIN:VCALENDAR
VERSION:2.0
PRODID:-//Golfsociety Austria - ECPv6.15.20//NONSGML v1.0//EN
CALSCALE:GREGORIAN
METHOD:PUBLISH
X-ORIGINAL-URL:https://golfsociety.at
X-WR-CALDESC:Veranstaltungen für Golfsociety Austria
REFRESH-INTERVAL;VALUE=DURATION:PT1H
X-Robots-Tag:noindex
X-PUBLISHED-TTL:PT1H
BEGIN:VTIMEZONE
TZID:Europe/Vienna
BEGIN:DAYLIGHT
TZOFFSETFROM:+0100
TZOFFSETTO:+0200
TZNAME:CEST
DTSTART:20240331T010000
END:DAYLIGHT
BEGIN:STANDARD
TZOFFSETFROM:+0200
TZOFFSETTO:+0100
TZNAME:CET
DTSTART:20241027T010000
END:STANDARD
BEGIN:DAYLIGHT
TZOFFSETFROM:+0100
TZOFFSETTO:+0200
TZNAME:CEST
DTSTART:20250330T010000
END:DAYLIGHT
BEGIN:STANDARD
TZOFFSETFROM:+0200
TZOFFSETTO:+0100
TZNAME:CET
DTSTART:20251026T010000
END:STANDARD
BEGIN:DAYLIGHT
TZOFFSETFROM:+0100
TZOFFSETTO:+0200
TZNAME:CEST
DTSTART:20260329T010000
END:DAYLIGHT
BEGIN:STANDARD
TZOFFSETFROM:+0200
TZOFFSETTO:+0100
TZNAME:CET
DTSTART:20261025T010000
END:STANDARD
END:VTIMEZONE
BEGIN:VEVENT
DTSTART;VALUE=DATE:20250425
DTEND;VALUE=DATE:20250428
DTSTAMP:20260425T170538
CREATED:20250209T172003Z
LAST-MODIFIED:20250209T172955Z
UID:21172-1745539200-1745798399@golfsociety.at
SUMMARY:Golf nahe Wien 2025
DESCRIPTION:Golftage rund um Wien\nWir beginnen am Freitag bei Anreise als Option im GC Donnerskirchen – einem linksartigen\, ebenen Platz am Neusiedlersee. Schilf und Wind werden uns begleiten und zur ständigen Herausforderung. Am Samstag steht eine Runde im GC Hainburg am Programm\, wir genießen den Golftag im Naturschutzgebiet der Donau-Auen. Am Sonntag schlagen wir im GC Linsberg ab und genießen flache Fairways\, sanft ondulierte Fairways und Linksfeeling mit den typischen Bunkern. Auch hier erwarten uns bestens gepflegte Bahnen und Grüns\, welche das Golfspiel zum Genuss werden lassen.\nNächtigen werden wir im Ibis Styles Parndorf Neusiedler See. Ein Hotel in idealer Lage für Golf\, Shopping und Abendgestaltung. Neu in moderner Ausgestaltung errichtet bietet es komfortable Zimmer und Parkplätze\, auf Wunsch auch einen Garagenplatz. Wer mag begleitet uns ins ein paar Meter entfernt liegende OX\, es bietet Grill und Sushi in bester Qualität und eine chillige Bar.\nTipp: Dieses Hotel liegt ideal für Begleitpersonen\, welche nicht golfen wollen. \nWir freuen uns auf ein paar angenehme Golftage\, auch die Gemütlichkeit und Kulinarik wird nicht zu kurz kommen. Für Einzeltage oder ein kürzeres Programm bitten wir um Anfrage. \n    \n    \n    \n    \n    \nBilder: Hotel Ibis\, Golfsociety Austria
URL:https://golfsociety.at/event/golf-nahe-wien-2025/
LOCATION:Parndorf\, Parndorf\, 7111\, Austria
CATEGORIES:Golfreise,Gruppenreise,Selbstfahrer
ATTACH;FMTTYPE=image/jpeg:https://golfsociety.at/go23/wp-content/uploads/2025/02/Blog_Wien_2025.jpg
ORGANIZER;CN="Golfsociety Austria":MAILTO:office@golfsociety.at
END:VEVENT
END:VCALENDAR