BEGIN:VCALENDAR
VERSION:2.0
PRODID:-//Golfsociety Austria - ECPv6.15.18//NONSGML v1.0//EN
CALSCALE:GREGORIAN
METHOD:PUBLISH
X-WR-CALNAME:Golfsociety Austria
X-ORIGINAL-URL:https://golfsociety.at
X-WR-CALDESC:Veranstaltungen für Golfsociety Austria
REFRESH-INTERVAL;VALUE=DURATION:PT1H
X-Robots-Tag:noindex
X-PUBLISHED-TTL:PT1H
BEGIN:VTIMEZONE
TZID:Europe/Vienna
BEGIN:DAYLIGHT
TZOFFSETFROM:+0100
TZOFFSETTO:+0200
TZNAME:CEST
DTSTART:20240331T010000
END:DAYLIGHT
BEGIN:STANDARD
TZOFFSETFROM:+0200
TZOFFSETTO:+0100
TZNAME:CET
DTSTART:20241027T010000
END:STANDARD
BEGIN:DAYLIGHT
TZOFFSETFROM:+0100
TZOFFSETTO:+0200
TZNAME:CEST
DTSTART:20250330T010000
END:DAYLIGHT
BEGIN:STANDARD
TZOFFSETFROM:+0200
TZOFFSETTO:+0100
TZNAME:CET
DTSTART:20251026T010000
END:STANDARD
BEGIN:DAYLIGHT
TZOFFSETFROM:+0100
TZOFFSETTO:+0200
TZNAME:CEST
DTSTART:20260329T010000
END:DAYLIGHT
BEGIN:STANDARD
TZOFFSETFROM:+0200
TZOFFSETTO:+0100
TZNAME:CET
DTSTART:20261025T010000
END:STANDARD
END:VTIMEZONE
BEGIN:VEVENT
DTSTART;VALUE=DATE:20250919
DTEND;VALUE=DATE:20250922
DTSTAMP:20260420T023140
CREATED:20250705T092203Z
LAST-MODIFIED:20250914T102451Z
UID:21454-1758240000-1758499199@golfsociety.at
SUMMARY:Golf beim Balaton
DESCRIPTION:Golfgenuss in der Umgebung des Plattensees\nNach langer Zeit besuchen wir wieder einmal das wunderbare Zala Springs Golf Resort. Dieses ist ob seiner Pflege und des Designs sehr geschätzt. Sanft ondulierte Bahnen und Grüns schlängeln sich in wundervoller Natur um das moderne Clubhaus und die Appartementhäuser am Platz. Sehr gediegene Atmosphäre\, sehr gut für alle HCPs zu spielen und völlig eben.\nNächtigen werden wir nicht am Platz\, wir haben uns für das neue Sirius Hotel ****s direkt am Ufer des Plattensees entschieden\, welches nur ca. 20 Fahrminuten vom Club entfernt liegt. Brandneu mit bester Ausstattung\, Seezugang und SPA-Bereich wird es uns begeistern. Das Arrangement inkludiert Halbpension.\nAm zweiten Spieltag besuchen wir den Hencse National Golf & Country Club\, ein Naturjuwel welches wir nach ca. 1\,5 Fahrstunden erreichen. Diese Fahrt lohnt sich auf jeden Fall – der gepflegte Platz ist in einer sanft hügeligen Landschaft auf einem alten Landgut mit umfangreichem\, alten Baumbestand eingewachsen und bietet neben dem Schauspiel der Natur zahlreiche Herausforderungen und Abwechslung für das Golfspiel.\nDen Sonntag und letzten Tag genießen wir im Balaton Golf Club. Dieser liegt oberhalb des Plattensees und gibt immer wieder Blicke auf diesen frei. Ein ganz besonderer Golfplatz\, welcher Linksfeeling\, Parkland und Küste miteinander vereint. Auch hier eine längere Anfahrt von ca. einer Autostunde. \nBITTE BEACHTEN – OPTIONEN\nAufgrund der Fahrtzeiten und Anreisezeiten bieten wir mehrere Optionen an. Wer z.B. am letzten Tag nicht zum Balaton GC fahren will\, kann optional auf Anfrage eine weitere Runde im Zala Springs GR genießen. Weiters sind auch Zusatznächte für eine frühere Anreise oder spätere Abreise (und ggf. einer weiteren Runde am Montag im Zala Springs GR) möglich. Bei Interesse bitte unbedingt anfragen. \nWir freuen uns auf ein paar angenehme Golftage\, auch die Gemütlichkeit und Kulinarik wird nicht zu kurz kommen. Für Einzeltage oder ein kürzeres Programm bitten wir um Anfrage. \n    \n    \n    \n    \nBilder: Sirius Hotel\, Hencse National G&CC\, Golfsociety Austria
URL:https://golfsociety.at/event/golf-beim-balaton/
LOCATION:Plattensee\, Keszthely\, 8360\, Hungary
CATEGORIES:Golfreise,Gruppenreise,Selbstfahrer
ATTACH;FMTTYPE=image/jpeg:https://golfsociety.at/go23/wp-content/uploads/2025/07/Blog_Balaton_2025.jpg
ORGANIZER;CN="Golfsociety Austria":MAILTO:office@golfsociety.at
END:VEVENT
END:VCALENDAR