BEGIN:VCALENDAR
VERSION:2.0
PRODID:-//Golfsociety Austria - ECPv6.15.18//NONSGML v1.0//EN
CALSCALE:GREGORIAN
METHOD:PUBLISH
X-ORIGINAL-URL:https://golfsociety.at
X-WR-CALDESC:Veranstaltungen für Golfsociety Austria
REFRESH-INTERVAL;VALUE=DURATION:PT1H
X-Robots-Tag:noindex
X-PUBLISHED-TTL:PT1H
BEGIN:VTIMEZONE
TZID:Europe/Vienna
BEGIN:DAYLIGHT
TZOFFSETFROM:+0100
TZOFFSETTO:+0200
TZNAME:CEST
DTSTART:20240331T010000
END:DAYLIGHT
BEGIN:STANDARD
TZOFFSETFROM:+0200
TZOFFSETTO:+0100
TZNAME:CET
DTSTART:20241027T010000
END:STANDARD
BEGIN:DAYLIGHT
TZOFFSETFROM:+0100
TZOFFSETTO:+0200
TZNAME:CEST
DTSTART:20250330T010000
END:DAYLIGHT
BEGIN:STANDARD
TZOFFSETFROM:+0200
TZOFFSETTO:+0100
TZNAME:CET
DTSTART:20251026T010000
END:STANDARD
BEGIN:DAYLIGHT
TZOFFSETFROM:+0100
TZOFFSETTO:+0200
TZNAME:CEST
DTSTART:20260329T010000
END:DAYLIGHT
BEGIN:STANDARD
TZOFFSETFROM:+0200
TZOFFSETTO:+0100
TZNAME:CET
DTSTART:20261025T010000
END:STANDARD
END:VTIMEZONE
BEGIN:VEVENT
DTSTART;VALUE=DATE:20251008
DTEND;VALUE=DATE:20251013
DTSTAMP:20260420T042133
CREATED:20250705T203019Z
LAST-MODIFIED:20250712T110344Z
UID:21473-1759881600-1760313599@golfsociety.at
SUMMARY:Golf am Gardasee 2025
DESCRIPTION:Italienischer Golfgenuss\nDer Gardasee ist ein magischer Ort – für Urlauber und Golfer gleichermaßen. Die Region verfügt über einige hochwertige Golfanlagen\, einige davon werden wir besuchen. Zu diesem Zwecke reisen wir aufgrund der Entfernung bereits am Mittwoch an und genießen das italienische Flair am Gardasee. \nNächtigen werden wir im Hotel Master **** am Rande der Innenstadt von Brescia. Das Hotel liegt ideal um zu Fuß in die schöne Altstadt von Brescia zu gelangen. Die Ausstattung überzeugt in gediegenem italienischen Stil. Es gibt ausreichend private Parkplätze\, einen kleinen Wellnessbereich (gegen Gebühr) und ein Restaurant. Die Erreichbarkeit ist ideal und ein perfekter Ausgangspunkt für unsere Golftage.\nAufgrund der langen Anreise für alle ist die Anreise am Vortag (Mittwoch) kalkuliert. \nAm Donnerstag starten wir in der Weinregion Franciacorta\, welche auch Namensgeberin für den Franciacorta GC ist. Diese Anlage gilt als eine der besten Italiens und verfügt über 27 Loch\, von welchen wir die besten 18 spielen werden. Sanft hügelig gestaltet wird uns dieser besondere Golfplatz mit edlem Ambiente erfreuen. Am Freitag genießen wir nach einer längeren Anfahrt die hügelige Anlage des GC Ca’ Degli Ulivi direkt am Gardasee. Herrliche Ausblicke auf den See und die namensgebenden Olivenbäume werden uns begleiten. Dieser Platz wird sich von der Pflege von den anderen unterscheiden\, der gesamte Eindruck des Golftages wird dies aber wettmachen. Den Samstag verbringen wir im Gardagolf CC\, “dem” Golfplatz am Gardasee. Hügel\, schöne Ausblicke herrliche mediterrane Bepflanzungen sowie Wasserhindernisse bestimmen das Bild. Das Finale am Sonntag bestreiten wir im Arzaga Golf\, einem bestens gepflegten Golfresort mit ebenfalls 27 Loch und den Löchern Nicklaus 1-18. Die Anlage ist in die Hügel des Gardasees eingebettet und eher flach. \nWer nun noch nicht direkt auf den langen Weg nach Hause will\, macht mit uns einen Zwischenstopp in Udine\, welches rund drei Autostunden entfernt liegt. Der Plan sieht eine Übernachtung im uns gut bekannten Hotel la di Moret vor\, ggf. spielen wir unterwegs noch eine Runde. \nEs ist auch möglich\, nur Teile des Programmes zu buchen. Bei Interesse bitte anfragen.\nSonderwünsche wie E-Carts usw. bitte bei Bestellung bekanntgeben. Hunde sind nicht erlaubt. \nWir freuen uns auf ein erholsames Wochenende im Kreise unserer Freunde! \n    \n    \n    \n  \nBilder: Arzaga Golf\, Franciacorta GC\, GC Ca’ Degli Ulivi\, Gardagolf CC\, Hotel Master
URL:https://golfsociety.at/event/golf-am-gardasee-2025/
LOCATION:Castiglione\, Castiglione delle Stiviere\, 46043\, Italy
CATEGORIES:Golfreise,Gruppenreise,Selbstfahrer
ATTACH;FMTTYPE=image/jpeg:https://golfsociety.at/go23/wp-content/uploads/2024/06/Blog_Gardasee_2024.jpg
ORGANIZER;CN="Golfsociety Austria":MAILTO:office@golfsociety.at
END:VEVENT
END:VCALENDAR