BEGIN:VCALENDAR
VERSION:2.0
PRODID:-//Golfsociety Austria - ECPv6.15.18//NONSGML v1.0//EN
CALSCALE:GREGORIAN
METHOD:PUBLISH
X-WR-CALNAME:Golfsociety Austria
X-ORIGINAL-URL:https://golfsociety.at
X-WR-CALDESC:Veranstaltungen für Golfsociety Austria
REFRESH-INTERVAL;VALUE=DURATION:PT1H
X-Robots-Tag:noindex
X-PUBLISHED-TTL:PT1H
BEGIN:VTIMEZONE
TZID:Europe/Vienna
BEGIN:DAYLIGHT
TZOFFSETFROM:+0100
TZOFFSETTO:+0200
TZNAME:CEST
DTSTART:20250330T010000
END:DAYLIGHT
BEGIN:STANDARD
TZOFFSETFROM:+0200
TZOFFSETTO:+0100
TZNAME:CET
DTSTART:20251026T010000
END:STANDARD
BEGIN:DAYLIGHT
TZOFFSETFROM:+0100
TZOFFSETTO:+0200
TZNAME:CEST
DTSTART:20260329T010000
END:DAYLIGHT
BEGIN:STANDARD
TZOFFSETFROM:+0200
TZOFFSETTO:+0100
TZNAME:CET
DTSTART:20261025T010000
END:STANDARD
BEGIN:DAYLIGHT
TZOFFSETFROM:+0100
TZOFFSETTO:+0200
TZNAME:CEST
DTSTART:20270328T010000
END:DAYLIGHT
BEGIN:STANDARD
TZOFFSETFROM:+0200
TZOFFSETTO:+0100
TZNAME:CET
DTSTART:20271031T010000
END:STANDARD
END:VTIMEZONE
BEGIN:VEVENT
DTSTART;VALUE=DATE:20260325
DTEND;VALUE=DATE:20260330
DTSTAMP:20260422T140819
CREATED:20260115T101957Z
LAST-MODIFIED:20260124T204759Z
UID:21748-1774396800-1774828799@golfsociety.at
SUMMARY:Golf in Padua '26
DESCRIPTION:Unser Saisonauftakt in Italien\n\nHeuer besuchen wir nochmals die Region Padua um unseren Saisonauftakt zu begehen. Wir kennen die Plätze\, das Hotel ist uns gut bekannt – wir freuen uns auf ein Wiedersehen\, aber auch auf eine Abwechslung zum Vorjahr. Bis auf zwei Anlagen befinden sich alle unweit des Hotels Terme delle Nazioni****\, welches uns beherbergen wird. Ein tolles\, familiär geführtes Haus mit allen Annehmlichkeiten und ruhiger Lage. Schöne\, geräumige Zimmer\, großartiges Frühstück\, ein ausladender Wellnessbereich mit Pools und die hervorragende landestypische Küche im Restaurant werden uns erfreuen. Auch die Bar lädt zum Verweilen ein\, Parkplätze sind direkt am Privatgelände des Hotels vorhanden. \n\n\n\nFür unsere Golftage haben wir die schönsten und interessantesten Plätze der Umgebung ausgesucht\, hier das Programm: Nach der langen Anreise spielen wir am Mittwoch eine 9-Loch Runde am nahen GC Terme di Galzignano\, ideal um etwas in Form zu kommen und die müden Beine zu vertreten. Am Donnerstag fahren wir Richtung Gardasee und besuchen wir den GC Colli Berici und spielen 18 Bahnen in den luftigen Höhen der Anlage. Eine Ausnahmeerfahrung\, welche man nicht missen sollte. Schmale Bahnen\, Höhenunterschiede\, eine echte Herausforderung mit tollen Ausblicken. Eine längere Anreise haben wir am Freitag zur Golfanlage Albarella Golf Links\, welche außergewöhlich ist. Der Golfplatz liegt direkt am Meer und überrascht mit auf der Anlage freilaufenden Wildtieren. Golfgenuss inmitten von Hirschen\, welche relaxt das Golfspiel um sie herum beobachten. \n\n\n\nAm Samstag spielen wir in der Nähe des Hotels eine Runde in der Anlage von Golf Frassanelle\, ein Parkland Kurs mit dem bekannten Signature Hole über einen endlos erscheinenden Teich. Mut wird belohnt! Die Abschlussrunde am Sonntag ist im Golf della Montecchia gebucht. Eine ebenfalls flache 27 Loch Anlage\, welche nebst Wasserhindernissen so manche Herausforderung parat hält. Immer im Blick die in der Region bekannten euganeischen Hügel. Wir haben die Freude und Chance\, die alternativen Löcher (zumindest 9 davon\, welche grundsätzlich den Mitgliedern vorbehalten sind) zu spielen. Wer die Heimreise nach der Runde in Udine unterbrechen will\, bitte Bescheid geben. Ein Kontingent an Zimmern ist im uns gut bekannten Hotel la di Moret für eine Nacht reserviert. Den Abend werden wir uns wieder mit Rudel-Sushi vergnügen\, wer schon dabei war\, weiß es zu schätzen! \n\n\n\nEs ist auch möglich\, nur Teile des Programmes zu buchen. Bei Interesse bitte anfragen. Sonderwünsche wie E-Carts usw. bitte bei Bestellung bekanntgeben. Hunde sind im Hotel und allen Golfkursen – (ruhige Hunde mit Etikette!) erlaubt. \n\nWir freuen uns auf ein erholsames Wochenende im Kreise unserer Freunde! \n    \n    \n    \n    \n    \n    \n    \nBilder: Terme di Galzignano\, Matteo Mescalchin\, Albarella Golf Links\, Golf della Montecchia\, Hotel Terme delle Nazioni\, Golfsociety Austria
URL:https://golfsociety.at/event/golf-in-padua-2026/
LOCATION:Montegrotto (IT)\, Montegrotto Terme (PD)\, 35036\, Italy
CATEGORIES:Golfreise,Gruppenreise,Selbstfahrer
ATTACH;FMTTYPE=image/jpeg:https://golfsociety.at/go23/wp-content/uploads/2025/01/Blog_Padua_2025.jpg
ORGANIZER;CN="Golfsociety Austria":MAILTO:office@golfsociety.at
END:VEVENT
END:VCALENDAR