BEGIN:VCALENDAR
VERSION:2.0
PRODID:-//Golfsociety Austria - ECPv6.15.20//NONSGML v1.0//EN
CALSCALE:GREGORIAN
METHOD:PUBLISH
X-WR-CALNAME:Golfsociety Austria
X-ORIGINAL-URL:https://golfsociety.at
X-WR-CALDESC:Veranstaltungen für Golfsociety Austria
REFRESH-INTERVAL;VALUE=DURATION:PT1H
X-Robots-Tag:noindex
X-PUBLISHED-TTL:PT1H
BEGIN:VTIMEZONE
TZID:Europe/Vienna
BEGIN:DAYLIGHT
TZOFFSETFROM:+0100
TZOFFSETTO:+0200
TZNAME:CEST
DTSTART:20230326T010000
END:DAYLIGHT
BEGIN:STANDARD
TZOFFSETFROM:+0200
TZOFFSETTO:+0100
TZNAME:CET
DTSTART:20231029T010000
END:STANDARD
BEGIN:DAYLIGHT
TZOFFSETFROM:+0100
TZOFFSETTO:+0200
TZNAME:CEST
DTSTART:20240331T010000
END:DAYLIGHT
BEGIN:STANDARD
TZOFFSETFROM:+0200
TZOFFSETTO:+0100
TZNAME:CET
DTSTART:20241027T010000
END:STANDARD
BEGIN:DAYLIGHT
TZOFFSETFROM:+0100
TZOFFSETTO:+0200
TZNAME:CEST
DTSTART:20250330T010000
END:DAYLIGHT
BEGIN:STANDARD
TZOFFSETFROM:+0200
TZOFFSETTO:+0100
TZNAME:CET
DTSTART:20251026T010000
END:STANDARD
END:VTIMEZONE
BEGIN:VEVENT
DTSTART;VALUE=DATE:20240927
DTEND;VALUE=DATE:20240930
DTSTAMP:20260426T055746
CREATED:20240520T092208Z
LAST-MODIFIED:20240603T213044Z
UID:20699-1727395200-1727654399@golfsociety.at
SUMMARY:Golftraum Zell am See
DESCRIPTION:Golfgenuss mit Panorama\nDie Region um Zell am See-Kaprun und Mittersill ist geprägt vom Panorama der Hohen Tauern und ist ein Ausflugsziel der Sonderklasse. Ganz unberührt werden uns die umliegenden Dreitausender nicht lassen\, sind diese doch ständige Begleiter auf unseren Golfrunden. \nEnde September werden wir das Golfvergnügen zur besten Jahreszeit genießen und starten am Freitag im GC Zell am See-Kaprun-Saalbach mit dem Kurs Kitzsteinhorn. Die völlig ebene Leading-Course Anlage verfügt über 36 Loch\, daher werden wir am Samstag die zweite Runde auf dem Kurs Schmittenhöhe in Angriff nehmen.\nAm Sonntag spielen wir vor der Heimreise noch eine Runde im GC Nationalpark Hohe Tauern\, eine ebenfalls völlig ebene und bestens gepflegte Anlage. \nWir nächtigen direkt in Zell am See am Ende der Fußgängerzone wenige Schritte vom Zeller See entfernt im Hotel-Restaurant Grüner Baum\, einem wunderbaren\, bestens ausgestattetem 4**** Stern Hotel. Abends genießen wir das inkludierte 5-Gang Abendmenü\, morgens eine vielfältige Auswahl vom Frühstücksbuffet. Unsere Fahrzeuge bringen wir stressfrei in der Tiefgarage unter.\nDie Abendgestaltung erfolgt nach Lust und Laune\, das Hotel liegt ideal für alle Unternehmungen. \nEs ist auch möglich\, nur Teile des Programmes zu buchen. Bei Interesse bitte anfragen.\nSonderwünsche wie E-Carts usw. bitte bei Bestellung bekanntgeben. \nAlle Teilnehmer:innen erhalten einen Gutschein von Golf House im Wert von EUR 20\,- (gültig bereits ab € 50\,- Einkauf) und ein kleines Präsent der Golfsociety Austria. \nWir freuen uns auf ein erholsames Wochenende im Kreise unserer Freunde! \n    \n    \n    \n  \nBilder: GC Zell am See-Kaprun-Saalbach\, Hotel-Restaurant Grüner Baum\, GC Nationalpark Hohe Tauern
URL:https://golfsociety.at/event/golftraum-zell-am-see/
LOCATION:Zell am See\, Zell am See\, Österreich
CATEGORIES:Golfreise,Gruppenreise,Selbstfahrer
ATTACH;FMTTYPE=image/jpeg:https://golfsociety.at/go23/wp-content/uploads/2024/05/Blog_ZellamSee_092024.jpg
ORGANIZER;CN="Golfsociety Austria":MAILTO:office@golfsociety.at
END:VEVENT
END:VCALENDAR