BEGIN:VCALENDAR
VERSION:2.0
PRODID:-//Golfsociety Austria - ECPv6.15.20//NONSGML v1.0//EN
CALSCALE:GREGORIAN
METHOD:PUBLISH
X-ORIGINAL-URL:https://golfsociety.at
X-WR-CALDESC:Veranstaltungen für Golfsociety Austria
REFRESH-INTERVAL;VALUE=DURATION:PT1H
X-Robots-Tag:noindex
X-PUBLISHED-TTL:PT1H
BEGIN:VTIMEZONE
TZID:Europe/Vienna
BEGIN:DAYLIGHT
TZOFFSETFROM:+0100
TZOFFSETTO:+0200
TZNAME:CEST
DTSTART:20240331T010000
END:DAYLIGHT
BEGIN:STANDARD
TZOFFSETFROM:+0200
TZOFFSETTO:+0100
TZNAME:CET
DTSTART:20241027T010000
END:STANDARD
BEGIN:DAYLIGHT
TZOFFSETFROM:+0100
TZOFFSETTO:+0200
TZNAME:CEST
DTSTART:20250330T010000
END:DAYLIGHT
BEGIN:STANDARD
TZOFFSETFROM:+0200
TZOFFSETTO:+0100
TZNAME:CET
DTSTART:20251026T010000
END:STANDARD
BEGIN:DAYLIGHT
TZOFFSETFROM:+0100
TZOFFSETTO:+0200
TZNAME:CEST
DTSTART:20260329T010000
END:DAYLIGHT
BEGIN:STANDARD
TZOFFSETFROM:+0200
TZOFFSETTO:+0100
TZNAME:CET
DTSTART:20261025T010000
END:STANDARD
END:VTIMEZONE
BEGIN:VEVENT
DTSTART;VALUE=DATE:20250326
DTEND;VALUE=DATE:20250331
DTSTAMP:20260425T170545
CREATED:20250119T140135Z
LAST-MODIFIED:20250119T141033Z
UID:21128-1742947200-1743379199@golfsociety.at
SUMMARY:Golf in Padua
DESCRIPTION:Unser Saisonauftakt in Italien\nHeuer besuchen wir wieder einmal die Region Padua um unseren Saisonauftakt zu begehen. Wir kennen die Plätze – auch das Hotel ist uns gut bekannt – und freuen uns auf die Abwechslung zu den Vorjahren. Bis auf einen Kurs befinden sich alle unweit des Hotels Terme delle Nazioni ****\, welches uns beherbergen wird. Ein tolles\, familiär geführtes Haus mit allen Annehmlichkeiten und ruhiger Lage. Schöne\, geräumige Zimmer\, großartiges Frühstück\, ein ausladender Wellnessbereich mit Pools und die hervorragende landestypische Küche im Restaurant werden uns erfreuen. Auch die Bar lädt zum Verweilen ein\, Parkplätze sind direkt am Privatgelände des Hotels vorhanden. \nFür unsere Golftage haben wir die schönsten und flachsten Plätze der Umgebung ausgesucht\, hier das Programm: Nach der langen Anreise spielen wir am Mittwoch eine 9-Loch Runde am nahen GC Terme di Galzignano\, ideal um etwas in Form zu kommen und die müden Beine zu vertreten. Am Donnerstag besuchen wir den GC Padua und spielen 18 Bahnen der 27 Loch Anlage. Ein Vorzeigeclub der Region mit imposantem Clubhaus\, welcher in Erinnerung bleiben wird. Am Freitag – abermals umliegend – spielen wir eine Runde in der Anlage von Golf Frassanelle\, ein Parkland Kurs mit dem bekannten Signature Hole über einen endlos erscheinenden Teich. Mut wird belohnt! Eine längere Anreise haben wir am Samstag zur Golfanlage Albarella Golf Links\, welche außergewöhlich ist. Der Golfplatz liegt direkt am Meer und überrascht mit auf der Anlage freilaufenden Wildtieren. Golfgenuss inmitten von Hirschen\, welche relaxt das Golfspiel um sie herum beobachten. \nDen Samstagabend verbringen wir im Hotel\, die Golfsociety Austria lädt zum Galadinner mit Aperitif. Die Hotelküche überzeugt mit exzellenten italienischen Gerichten. \nDie Abschlussrunde am Sonntag ist im Golf della Montecchia gebucht. Eine ebenfalls flache 27 Loch Anlage\, welche nebst Wasserhindernissen so manche Herausforderung parat hält. Immer im Blick die in der Region bekannten euganeischen Hügel. Wer die Heimreise nach der Runde in Udine unterbrechen will\, bitte Bescheid geben. Ein Kontingent an Zimmern ist im uns gut bekannten Hotel la di Moret für eine Nacht reserviert. \nEs ist auch möglich\, nur Teile des Programmes zu buchen. Bei Interesse bitte anfragen.\nSonderwünsche wie E-Carts usw. bitte bei Bestellung bekanntgeben. Hunde sind im Hotel und allen Golfkursen – außer im GC Padua (ruhige Hunde mit Etikette!) erlaubt. \nWir freuen uns auf ein erholsames Wochenende im Kreise unserer Freunde! \n    \n    \n    \n    \n    \n    \n    \nTerme di Galzignano\, Golf Club Padua\, Golf Frassanelle\, Albarella Golf Links\, Golf della Montecchia\, Hotel Terme delle Nazioni\, Golfsociety Austria
URL:https://golfsociety.at/event/golf-in-padua/
LOCATION:Montegrotto (IT)\, Montegrotto Terme (PD)\, 35036\, Italy
CATEGORIES:Golfreise,Gruppenreise,Selbstfahrer
ATTACH;FMTTYPE=image/jpeg:https://golfsociety.at/go23/wp-content/uploads/2025/01/Blog_Padua_2025.jpg
ORGANIZER;CN="Golfsociety Austria":MAILTO:office@golfsociety.at
END:VEVENT
END:VCALENDAR