BEGIN:VCALENDAR
VERSION:2.0
PRODID:-//Golfsociety Austria - ECPv6.15.18//NONSGML v1.0//EN
CALSCALE:GREGORIAN
METHOD:PUBLISH
X-ORIGINAL-URL:https://golfsociety.at
X-WR-CALDESC:Veranstaltungen für Golfsociety Austria
REFRESH-INTERVAL;VALUE=DURATION:PT1H
X-Robots-Tag:noindex
X-PUBLISHED-TTL:PT1H
BEGIN:VTIMEZONE
TZID:Europe/Vienna
BEGIN:DAYLIGHT
TZOFFSETFROM:+0100
TZOFFSETTO:+0200
TZNAME:CEST
DTSTART:20250330T010000
END:DAYLIGHT
BEGIN:STANDARD
TZOFFSETFROM:+0200
TZOFFSETTO:+0100
TZNAME:CET
DTSTART:20251026T010000
END:STANDARD
BEGIN:DAYLIGHT
TZOFFSETFROM:+0100
TZOFFSETTO:+0200
TZNAME:CEST
DTSTART:20260329T010000
END:DAYLIGHT
BEGIN:STANDARD
TZOFFSETFROM:+0200
TZOFFSETTO:+0100
TZNAME:CET
DTSTART:20261025T010000
END:STANDARD
BEGIN:DAYLIGHT
TZOFFSETFROM:+0100
TZOFFSETTO:+0200
TZNAME:CEST
DTSTART:20270328T010000
END:DAYLIGHT
BEGIN:STANDARD
TZOFFSETFROM:+0200
TZOFFSETTO:+0100
TZNAME:CET
DTSTART:20271031T010000
END:STANDARD
END:VTIMEZONE
BEGIN:VEVENT
DTSTART;VALUE=DATE:20260724
DTEND;VALUE=DATE:20260727
DTSTAMP:20260422T194930
CREATED:20260406T073441Z
LAST-MODIFIED:20260406T074535Z
UID:21992-1784851200-1785110399@golfsociety.at
SUMMARY:Waldviertel Golf
DESCRIPTION:Leading Golf im Norden\nIn der heißen Sommerphase entfliehen wir der Hitze und besuchen wir das kühlere Waldviertel. Das Golfresort Haugschlag **** wird uns beherbergen. Wir genießen Halbpension und die Nächtigung direkt am Golfplatz – das gibt Gemütlichkeit.\nWir spielen beide 18 Loch Kurse Haugschlag und Waldviertel und besuchen an einem Spieltag das benachbarte Golfresort Monachus in Tschechien. Dieses liegt wenige Minuten entfernt und ist auch mit dem E-Cart direkt erreichbar. Alle Kurse sprechen für sich und werden uns absolute Freude bereiten. Leicht hügelig mit Fels- und Baumgruppen und einigen Teichen in Österreich\, ebenfalls in die leicht hügelige Landschaft eingebettet präsentiert sich der GC Monachus\, ein wunderschöner Platz mit besonders ondulierten Grüns. \nEs ist auch möglich\, nur Teile des Programmes zu buchen. Bei Interesse bitte anfragen.\nSonderwünsche wie E-Carts usw. bitte bei Bestellung bekanntgeben. \nWir freuen uns auf ein erholsames Wochenende im Kreise unserer Gäste und Freunde! \n    \n    \n    \nBilder: Golfresort Haugschlag\, Golfresort Monachus
URL:https://golfsociety.at/event/waldviertel-golf/
LOCATION:Haugschlag\, Haugschlag\, Austria
CATEGORIES:Golfreise,Gruppenreise,Selbstfahrer
ATTACH;FMTTYPE=image/jpeg:https://golfsociety.at/go23/wp-content/uploads/2026/04/Blog_Haugschlag_072026.jpg
ORGANIZER;CN="Golfsociety Austria":MAILTO:office@golfsociety.at
END:VEVENT
END:VCALENDAR