BEGIN:VCALENDAR
VERSION:2.0
PRODID:-//Golfsociety Austria - ECPv6.15.18//NONSGML v1.0//EN
CALSCALE:GREGORIAN
METHOD:PUBLISH
X-WR-CALNAME:Golfsociety Austria
X-ORIGINAL-URL:https://golfsociety.at
X-WR-CALDESC:Veranstaltungen für Golfsociety Austria
REFRESH-INTERVAL;VALUE=DURATION:PT1H
X-Robots-Tag:noindex
X-PUBLISHED-TTL:PT1H
BEGIN:VTIMEZONE
TZID:Europe/Vienna
BEGIN:DAYLIGHT
TZOFFSETFROM:+0100
TZOFFSETTO:+0200
TZNAME:CEST
DTSTART:20250330T010000
END:DAYLIGHT
BEGIN:STANDARD
TZOFFSETFROM:+0200
TZOFFSETTO:+0100
TZNAME:CET
DTSTART:20251026T010000
END:STANDARD
BEGIN:DAYLIGHT
TZOFFSETFROM:+0100
TZOFFSETTO:+0200
TZNAME:CEST
DTSTART:20260329T010000
END:DAYLIGHT
BEGIN:STANDARD
TZOFFSETFROM:+0200
TZOFFSETTO:+0100
TZNAME:CET
DTSTART:20261025T010000
END:STANDARD
BEGIN:DAYLIGHT
TZOFFSETFROM:+0100
TZOFFSETTO:+0200
TZNAME:CEST
DTSTART:20270328T010000
END:DAYLIGHT
BEGIN:STANDARD
TZOFFSETFROM:+0200
TZOFFSETTO:+0100
TZNAME:CET
DTSTART:20271031T010000
END:STANDARD
END:VTIMEZONE
BEGIN:VEVENT
DTSTART;VALUE=DATE:20260514
DTEND;VALUE=DATE:20260518
DTSTAMP:20260421T154243
CREATED:20260131T185236Z
LAST-MODIFIED:20260131T190059Z
UID:21879-1778716800-1779062399@golfsociety.at
SUMMARY:Drei Länder Golf '26
DESCRIPTION:Golf\, Panorama\, Design & Genuss\nIm Mai statten wir der Region Salzburg einen Besuch ab und genießen das schöne Leben – auch abseits der Fairways und Greens. Nächtigen werden wir im beeindruckenden The Passanger Hotel ****\, ein topmodernes Hotel am Stadtrand und ideal für unsere Unternehmungen gelegen. Beste Ausstattung\, tolles Frühstück und Tiefgarage sind inkludiert. \nWir beginnen am Freitag im Leading Golf Course Gut Altentann\, eine wunderbare Anlage\, kürzlich für die Austrian Alpine Open renoviert und umgestaltet. Zahlreiche Aufgaben werden uns auf diesem hügeligen Kurs fordern. Am Samstag geht’s über die Grenze nach Bayern zur nahe gelegenen Golfanlage Berchtesgadener Land. Gemeinsam werden wir das Panorama und den Golftag in der leicht hügeligen Anlage mit zahlreichen Wasserhindernissen genießen. Den Abschluss macht auf der Rückfahrt der Leading Golf Course Golfclub am Mondsee. Völlig flach mit überwältigendem Panorama\, dieser Golftag wird ganz bestimmt – wie die anderen auch – in Erinnerung bleiben. \nOPTION 1:Wer schon mit uns am Donnerstag anreisen will und kann spielt mit uns eine Runde im GC Salzkammergut. Die leicht hügelige Anlage unweit von Bad Ischl überzeugt mit herrlichem Panorama – einer der ältesten Golfkurse Österreichs.OPTION 2:Wer fine dining zu schätzen weiß\, wird eine Freude haben. Wir besuchen am Freitag Abend Senns.Restaurant. Die Küche ist mit Auszeichnungen überhäuft\, darunter 2 Michelin Sterne\, 4 Gault Millau Hauben sowie 98 von 100 Punkten von Falstaff. \n\n\n\nEs ist auch möglich\, nur Teile des Programmes zu buchen. Bei Interesse bitte anfragen. Sonderwünsche wie E-Carts usw. bitte bei Bestellung bekanntgeben. \n\nWir freuen uns auf ein erholsames Wochenende im Kreise unserer Freunde! \n    \n    \n    \n    \n    \n    \nBilder: GC Salzkammergut\, GC Gut Altentann\, GA Berchtesgadener Land\, Golf am Mondsee\, The Passenger Hotel ****\, SENNS.Restaurant
URL:https://golfsociety.at/event/drei-laender-golf-26/
LOCATION:Salzburg\, Europastraße 10\, Salzburg\, 5020
CATEGORIES:Golfreise,Gruppenreise,Selbstfahrer
ATTACH;FMTTYPE=image/jpeg:https://golfsociety.at/go23/wp-content/uploads/2026/01/Blog_Salzburg_052026.jpg
ORGANIZER;CN="Golfsociety Austria":MAILTO:office@golfsociety.at
END:VEVENT
END:VCALENDAR