BEGIN:VCALENDAR
VERSION:2.0
PRODID:-//Golfsociety Austria - ECPv6.15.18//NONSGML v1.0//EN
CALSCALE:GREGORIAN
METHOD:PUBLISH
X-ORIGINAL-URL:https://golfsociety.at
X-WR-CALDESC:Veranstaltungen für Golfsociety Austria
REFRESH-INTERVAL;VALUE=DURATION:PT1H
X-Robots-Tag:noindex
X-PUBLISHED-TTL:PT1H
BEGIN:VTIMEZONE
TZID:Europe/Vienna
BEGIN:DAYLIGHT
TZOFFSETFROM:+0100
TZOFFSETTO:+0200
TZNAME:CEST
DTSTART:20250330T010000
END:DAYLIGHT
BEGIN:STANDARD
TZOFFSETFROM:+0200
TZOFFSETTO:+0100
TZNAME:CET
DTSTART:20251026T010000
END:STANDARD
BEGIN:DAYLIGHT
TZOFFSETFROM:+0100
TZOFFSETTO:+0200
TZNAME:CEST
DTSTART:20260329T010000
END:DAYLIGHT
BEGIN:STANDARD
TZOFFSETFROM:+0200
TZOFFSETTO:+0100
TZNAME:CET
DTSTART:20261025T010000
END:STANDARD
BEGIN:DAYLIGHT
TZOFFSETFROM:+0100
TZOFFSETTO:+0200
TZNAME:CEST
DTSTART:20270328T010000
END:DAYLIGHT
BEGIN:STANDARD
TZOFFSETFROM:+0200
TZOFFSETTO:+0100
TZNAME:CET
DTSTART:20271031T010000
END:STANDARD
END:VTIMEZONE
BEGIN:VEVENT
DTSTART;VALUE=DATE:20260619
DTEND;VALUE=DATE:20260622
DTSTAMP:20260419T220338
CREATED:20260216T220819Z
LAST-MODIFIED:20260216T221417Z
UID:21921-1781827200-1782086399@golfsociety.at
SUMMARY:Golf Spezial Graz
DESCRIPTION:Sonderveranstaltung –\ndie Heimat der Golfsociety Austria\nDie Umgebung von Graz hat für Golfer:innen einiges zu bieten\, zwei der schönsten Golfplätze werden wir besuchen. Monika und ich werden Euch anlässlich unseres Jubiläums in unserer Heimat begrüßen und Euch einige besondere Orte zeigen. \nAm Freitag schlagen wir im GC Frauenthal ab und genießen eine herrliche Runde im Schlosspark mit uraltem\, eingewachsenem Baumbestand. Dieser ebene Teil der Anlage endet mit einer echten Herausforderung auf den letzten\, stark hügeligen Löchern. Eine wunderbare Golfanlage\, immer bestens gepflegt. 2002 begann dort meine golferische Reise. Nächtigen werden unsere Gäste im Hotel Urdlwirt****\, ein bestens ausgestattetes\, modernes Hotel mit ausgezeichnetem Restaurant. \nACHTUNG\, Sonderprogramm\nDer Samstag ist spielfrei\, als Besonderheit haben wir eine Traktorausfahrt im weststeirischen Schilcherland mit echten Steyr-Oldtimern organisiert. Jede die – und jeder der – will fährst selbst\, Führerschein Klasse B reicht. Eine Person kann auf Wunsch pro Traktor mitfahren. Wir fahren eine geführte Tour auf Straßen und Wegen\, besuchen eine Buschenschank und genießen dort eine Jause. Den Abend verbringen wir gemeinsam (wer mag) in der Altstadt von Graz.\nSollte jemand nicht am Ausflug teilnehmen wollen\, kann ersatzweise eine Runde Golf organisiert werden. \nDen Sonntag verbringen wir im GC Gut Murstätten\, unserer Heimatanlage. Top Qualität\, völlig eben – aber fordernd wird uns dieser Tag in Erinnerung bleiben. Ein hervorragendes Layout rund um den riesigen See erfreut alle Spieler:innen. \nEs ist auch möglich\, nur Teile des Programmes zu buchen. Bei Interesse bitte anfragen.\nSonderwünsche wie E-Carts usw. bitte bei Bestellung bekanntgeben. \nWir freuen uns auf ein erholsames Wochenende im Kreise unserer Gäste und Freunde! \n    \n    \n    \n    \nBilder: Hotel Urdlwirt****\, Golfsociety Austria
URL:https://golfsociety.at/event/golf-spezial-graz/
LOCATION:Graz\, Graz\, 8010\, Austria
CATEGORIES:Golfreise,Gruppenreise,Selbstfahrer
ATTACH;FMTTYPE=image/jpeg:https://golfsociety.at/go23/wp-content/uploads/2026/02/Blog_Graz_062026.jpg
ORGANIZER;CN="Golfsociety Austria":MAILTO:office@golfsociety.at
END:VEVENT
END:VCALENDAR